BEGIN:VCALENDAR
VERSION:2.0
PRODID:-//GretaLuz Arteterapia - ECPv6.15.18//NONSGML v1.0//EN
CALSCALE:GREGORIAN
METHOD:PUBLISH
X-WR-CALNAME:GretaLuz Arteterapia
X-ORIGINAL-URL:https://gretaluzarteterapia.com
X-WR-CALDESC:Eventi per GretaLuz Arteterapia
REFRESH-INTERVAL;VALUE=DURATION:PT1H
X-Robots-Tag:noindex
X-PUBLISHED-TTL:PT1H
BEGIN:VTIMEZONE
TZID:UTC
BEGIN:STANDARD
TZOFFSETFROM:+0000
TZOFFSETTO:+0000
TZNAME:UTC
DTSTART:20230101T000000
END:STANDARD
END:VTIMEZONE
BEGIN:VEVENT
DTSTART;TZID=UTC:20240307T183000
DTEND;TZID=UTC:20240307T200000
DTSTAMP:20260420T130343
CREATED:20240307T183018Z
LAST-MODIFIED:20240326T083939Z
UID:5293-1709836200-1709841600@gretaluzarteterapia.com
SUMMARY:Esplorazioni Fotografike ciclo online giovedì
DESCRIPTION:ESPLORAZIONI FOTOGRAFIKE ONLINE⚡️ \nUno spazio per stimolare la nostra creatività a partire dalla storia e dalle immagini di fotografe donne.\nIl percorso si svolge una volta a settimana ONLINE  i GIOVEDì dalle 18.30 alle 20.00.\nGiornate: 29 febbraio\, 7\, 14\, 21 marzo \nIl gruppo online è aperto e potrete inserirvi ogni giovedì avvisando con anticipo della vostra partecipazione. \nPer maggiori dettagli non esitate a contattarmi \nFoto dell’evento della super Diane Arbus
URL:https://gretaluzarteterapia.com/appuntamenti/esplorazioni-fotografike-ciclo-online-giovedi-2/
CATEGORIES:Esplorazioni Fotografike
ATTACH;FMTTYPE=image/jpeg:https://gretaluzarteterapia.com/wp-content/uploads/2024/01/309-jpg.webp
END:VEVENT
BEGIN:VEVENT
DTSTART;VALUE=DATE:20240311
DTEND;VALUE=DATE:20240312
DTSTAMP:20260420T130343
CREATED:20240326T084729Z
LAST-MODIFIED:20240326T084729Z
UID:5302-1710115200-1710201599@gretaluzarteterapia.com
SUMMARY:Esplorazioni Sovversive ciclo settimanale lunedì
DESCRIPTION:ESPLORAZIONI SOVVERSIVE⚡️ \nSe volete dedicarvi uno spazio di libertà in cui esplorare la vostra anima sovversiva\, permettendovi di sbagliare\, di abbracciare l’errore e di sovvertirne il significato siete benvenutə per questo nuovo ciclo invernale in cui non mancheranno i materiali artistici\, complici ribelli.\nIl percorso si svolge una volta a settimana presso il mio studio  (ogni ciclo è composto da 4 incontri) i LUNEDì sera dalle 19.30 alle 21.30.\nGiornate: 19\, 26 febbraio\, 4\, 11 marzo \nPer maggiori dettagli non esitate a contattarmi \nFoto dell’evento della super Diane Arbus
URL:https://gretaluzarteterapia.com/appuntamenti/esplorazioni-sovversive-ciclo-settimanale-lunedi/
LOCATION:Studio Arteterapia Gretaluz
ATTACH;FMTTYPE=image/jpeg:https://gretaluzarteterapia.com/wp-content/uploads/2024/01/310-jpg.webp
END:VEVENT
BEGIN:VEVENT
DTSTART;TZID=UTC:20240314T183000
DTEND;TZID=UTC:20240314T200000
DTSTAMP:20260420T130343
CREATED:20240326T084028Z
LAST-MODIFIED:20240326T084028Z
UID:5295-1710441000-1710446400@gretaluzarteterapia.com
SUMMARY:Esplorazioni Fotografike ciclo online giovedì
DESCRIPTION:ESPLORAZIONI FOTOGRAFIKE ONLINE⚡️ \nUno spazio per stimolare la nostra creatività a partire dalla storia e dalle immagini di fotografe donne.\nIl percorso si svolge una volta a settimana ONLINE  i GIOVEDì dalle 18.30 alle 20.00.\nGiornate: 29 febbraio\, 7\, 14\, 21 marzo \nIl gruppo online è aperto e potrete inserirvi ogni giovedì avvisando con anticipo della vostra partecipazione. \nPer maggiori dettagli non esitate a contattarmi \nFoto dell’evento della super Diane Arbus
URL:https://gretaluzarteterapia.com/appuntamenti/esplorazioni-fotografike-ciclo-online-giovedi-3/
CATEGORIES:Esplorazioni Fotografike
ATTACH;FMTTYPE=image/jpeg:https://gretaluzarteterapia.com/wp-content/uploads/2024/01/309-jpg.webp
END:VEVENT
BEGIN:VEVENT
DTSTART;TZID=UTC:20240321T183000
DTEND;TZID=UTC:20240321T200000
DTSTAMP:20260420T130343
CREATED:20240326T084118Z
LAST-MODIFIED:20240326T084118Z
UID:5297-1711045800-1711051200@gretaluzarteterapia.com
SUMMARY:Esplorazioni Fotografike ciclo online giovedì
DESCRIPTION:ESPLORAZIONI FOTOGRAFIKE ONLINE⚡️ \nUno spazio per stimolare la nostra creatività a partire dalla storia e dalle immagini di fotografe donne.\nIl percorso si svolge una volta a settimana ONLINE  i GIOVEDì dalle 18.30 alle 20.00.\nGiornate: 29 febbraio\, 7\, 14\, 21 marzo \nIl gruppo online è aperto e potrete inserirvi ogni giovedì avvisando con anticipo della vostra partecipazione. \nPer maggiori dettagli non esitate a contattarmi \nFoto dell’evento della super Diane Arbus
URL:https://gretaluzarteterapia.com/appuntamenti/esplorazioni-fotografike-ciclo-online-giovedi-4/
CATEGORIES:Esplorazioni Fotografike
ATTACH;FMTTYPE=image/jpeg:https://gretaluzarteterapia.com/wp-content/uploads/2024/01/309-jpg.webp
END:VEVENT
BEGIN:VEVENT
DTSTART;TZID=UTC:20240326T190000
DTEND;TZID=UTC:20240326T210000
DTSTAMP:20260420T130343
CREATED:20240326T084345Z
LAST-MODIFIED:20240326T084437Z
UID:5299-1711479600-1711486800@gretaluzarteterapia.com
SUMMARY:Esplorazioni Sovversive ciclo settimanale martedì
DESCRIPTION:ESPLORAZIONI SOVVERSIVE⚡️ \nSe volete dedicarvi uno spazio di libertà in cui esplorare la vostra anima sovversiva\, permettendovi di sbagliare\, di abbracciare l’errore e di sovvertirne il significato siete benvenutə per questo nuovo ciclo invernale in cui non mancheranno i materiali artistici\, complici ribelli.\nIl percorso si svolge una volta a settimana presso il mio studio  (ogni ciclo è composto da 4 incontri) i MARTEDì sera dalle 19.00 alle 21.00.\nGiornate: 5\, 12\, 19\, 26 marzo \nPer maggiori dettagli non esitate a contattarmi \nFoto dell’evento della super Diane Arbus
URL:https://gretaluzarteterapia.com/appuntamenti/esplorazioni-sovversive-ciclo-settimanale-martedi-2/
LOCATION:Studio Arteterapia Gretaluz
ATTACH;FMTTYPE=image/jpeg:https://gretaluzarteterapia.com/wp-content/uploads/2024/01/310-jpg.webp
END:VEVENT
END:VCALENDAR