BEGIN:VCALENDAR
VERSION:2.0
PRODID:-//GretaLuz Arteterapia - ECPv6.15.18//NONSGML v1.0//EN
CALSCALE:GREGORIAN
METHOD:PUBLISH
X-ORIGINAL-URL:https://gretaluzarteterapia.com
X-WR-CALDESC:Eventi per GretaLuz Arteterapia
REFRESH-INTERVAL;VALUE=DURATION:PT1H
X-Robots-Tag:noindex
X-PUBLISHED-TTL:PT1H
BEGIN:VTIMEZONE
TZID:UTC
BEGIN:STANDARD
TZOFFSETFROM:+0000
TZOFFSETTO:+0000
TZNAME:UTC
DTSTART:20230101T000000
END:STANDARD
END:VTIMEZONE
BEGIN:VEVENT
DTSTART;TZID=UTC:20240429T190000
DTEND;TZID=UTC:20240430T210000
DTSTAMP:20260420T112900
CREATED:20240403T083530Z
LAST-MODIFIED:20240403T083530Z
UID:5320-1714417200-1714510800@gretaluzarteterapia.com
SUMMARY:ESPLORAZIONI FOTOGRAFIKE-RIUNIONE DI SFAMIGLIA
DESCRIPTION:ESPLORAZIONI FOTOGRAFIKE  RIUNIONE DI SFAMIGLIA⚡️ \nGiornate gruppo del lunedì: 15\,22\,29 aprile\, 6 maggio dalle 19.30 alle 21\,30 \nGiornate gruppo del martedì: 16\, 23\, 30 aprile\, 7 maggio dalle 19.00 alle 21.00 \nIl laboratorio espressivo di gruppo Esplorazioni Fotografike si propone di dare maggiore spazio a storie di artiste fotografe donne o non binarie per attivare il processo creativo all’interno di un contesto intimo di gruppo.\nMa Esplorazioni Fotografike – Riunione di Sfamiglia in cosa consiste?\nUn percorso di 4 incontri in presenza a Bologna\, ispirato alla fotografa Frances Benjamin Johnston\, la cui arte lancia messaggi sociali con arguta ironia.\nFrances mi ha ispirato molte riflessioni sull’idea di alleanze e sorellanze\, da qui il nome riunione di Sfamiglia* \n*Sfamiglia = i legami che scegli\, che vanno al di là di quelli di sangue 🕸 \nDurante i quattro incontri darete valore ai vostri legami sfamigliari\, che possono includere persone\, oggetti\, azioni\, ideali\, utilizzando diversi materiali ed elementi per esplorare la tecnica dell’assemblage. \nUn incontro a settimana\, a scelta lunedì o martedì sera\, tutti i dettagli nel post\n✍ Info e iscrizioni alla mail gretaluzarteterapia@gmail.com \nPer maggiori dettagli non esitate a contattarmi \nFoto dell’evento della super Frances Benjamin Johnston
URL:https://gretaluzarteterapia.com/appuntamenti/esplorazioni-fotografike-riunione-di-sfamiglia-3/
CATEGORIES:Esplorazioni Fotografike
ATTACH;FMTTYPE=image/png:https://gretaluzarteterapia.com/wp-content/uploads/2024/04/379.png
END:VEVENT
END:VCALENDAR