BEGIN:VCALENDAR
VERSION:2.0
PRODID:-//GretaLuz Arteterapia - ECPv6.15.18//NONSGML v1.0//EN
CALSCALE:GREGORIAN
METHOD:PUBLISH
X-ORIGINAL-URL:https://gretaluzarteterapia.com
X-WR-CALDESC:Eventi per GretaLuz Arteterapia
REFRESH-INTERVAL;VALUE=DURATION:PT1H
X-Robots-Tag:noindex
X-PUBLISHED-TTL:PT1H
BEGIN:VTIMEZONE
TZID:UTC
BEGIN:STANDARD
TZOFFSETFROM:+0000
TZOFFSETTO:+0000
TZNAME:UTC
DTSTART:20230101T000000
END:STANDARD
END:VTIMEZONE
BEGIN:VEVENT
DTSTART;TZID=UTC:20240326T190000
DTEND;TZID=UTC:20240326T210000
DTSTAMP:20260420T143724
CREATED:20240326T084345Z
LAST-MODIFIED:20240326T084437Z
UID:5299-1711479600-1711486800@gretaluzarteterapia.com
SUMMARY:Esplorazioni Sovversive ciclo settimanale martedì
DESCRIPTION:ESPLORAZIONI SOVVERSIVE⚡️ \nSe volete dedicarvi uno spazio di libertà in cui esplorare la vostra anima sovversiva\, permettendovi di sbagliare\, di abbracciare l’errore e di sovvertirne il significato siete benvenutə per questo nuovo ciclo invernale in cui non mancheranno i materiali artistici\, complici ribelli.\nIl percorso si svolge una volta a settimana presso il mio studio  (ogni ciclo è composto da 4 incontri) i MARTEDì sera dalle 19.00 alle 21.00.\nGiornate: 5\, 12\, 19\, 26 marzo \nPer maggiori dettagli non esitate a contattarmi \nFoto dell’evento della super Diane Arbus
URL:https://gretaluzarteterapia.com/appuntamenti/esplorazioni-sovversive-ciclo-settimanale-martedi-2/
LOCATION:Studio Arteterapia Gretaluz
ATTACH;FMTTYPE=image/jpeg:https://gretaluzarteterapia.com/wp-content/uploads/2024/01/310-jpg.webp
END:VEVENT
END:VCALENDAR