BEGIN:VCALENDAR
VERSION:2.0
PRODID:-//GretaLuz Arteterapia - ECPv6.15.18//NONSGML v1.0//EN
CALSCALE:GREGORIAN
METHOD:PUBLISH
X-ORIGINAL-URL:https://gretaluzarteterapia.com
X-WR-CALDESC:Eventi per GretaLuz Arteterapia
REFRESH-INTERVAL;VALUE=DURATION:PT1H
X-Robots-Tag:noindex
X-PUBLISHED-TTL:PT1H
BEGIN:VTIMEZONE
TZID:UTC
BEGIN:STANDARD
TZOFFSETFROM:+0000
TZOFFSETTO:+0000
TZNAME:UTC
DTSTART:20230101T000000
END:STANDARD
END:VTIMEZONE
BEGIN:VEVENT
DTSTART;VALUE=DATE:20240125
DTEND;VALUE=DATE:20240126
DTSTAMP:20260420T173036
CREATED:20240110T111957Z
LAST-MODIFIED:20240110T112432Z
UID:5157-1706140800-1706227199@gretaluzarteterapia.com
SUMMARY:Esplorazioni Sovversive ciclo online giovedì
DESCRIPTION:ESPLORAZIONI SOVVERSIVE⚡️ \nSe volete dedicarvi uno spazio di libertà in cui esplorare la vostra anima sovversiva\, permettendovi di sbagliare\, di abbracciare l’errore e di sovvertirne il significato siete benvenutə per questo nuovo ciclo invernale in cui non mancheranno i materiali artistici\, complici ribelli.\nIl percorso si svolge una volta a settimana ONLINE (ogni ciclo è composto da 4 incontri) i GIOVEDì dalle 18.30 alle 20.00.\nGiornate: 25 gennaio\, 01\, 08\, 15 febbraio \nIl gruppo online è aperto e potrete inserirvi ogni giovedì avvisando con anticipo della vostra partecipazione. \nPer maggiori dettagli non esitate a contattarmi \nFoto dell’evento della super Diane Arbus
URL:https://gretaluzarteterapia.com/appuntamenti/esplorazioni-sovversive-ciclo-online-giovedi/
CATEGORIES:Esplorazioni Sovversive
ATTACH;FMTTYPE=image/jpeg:https://gretaluzarteterapia.com/wp-content/uploads/2024/01/309-jpg.webp
END:VEVENT
END:VCALENDAR