BEGIN:VCALENDAR
VERSION:2.0
PRODID:-//GretaLuz Arteterapia - ECPv6.15.18//NONSGML v1.0//EN
CALSCALE:GREGORIAN
METHOD:PUBLISH
X-ORIGINAL-URL:https://gretaluzarteterapia.com
X-WR-CALDESC:Eventi per GretaLuz Arteterapia
REFRESH-INTERVAL;VALUE=DURATION:PT1H
X-Robots-Tag:noindex
X-PUBLISHED-TTL:PT1H
BEGIN:VTIMEZONE
TZID:UTC
BEGIN:STANDARD
TZOFFSETFROM:+0000
TZOFFSETTO:+0000
TZNAME:UTC
DTSTART:20220101T000000
END:STANDARD
END:VTIMEZONE
BEGIN:VEVENT
DTSTART;VALUE=DATE:20231107
DTEND;VALUE=DATE:20231118
DTSTAMP:20260420T185951
CREATED:20230922T140203Z
LAST-MODIFIED:20231030T173837Z
UID:4220-1699315200-1700265599@gretaluzarteterapia.com
SUMMARY:ESPLORAZIONI FOTOGRAFIKE - Ciclo Autunnale
DESCRIPTION:In cosa consiste \n  \nPer cogliere di cosa si tratta potremmo suddividere il titolo del laboratorio così:  \n  \nesplora – azioni – fotografe – fike \n  \nEsploriamo con i materiali\, con i sensi e attraverso lo sguardo nostro e del gruppo. \nMettiamo in azione le mani\, gli occhi\, i piedi\,  il corpo nella sua totalità. \nConosciamo o approfondiamo aspetti della storia della Fotografia. \nLe fotografe che esploriamo sono fike ma la loro storia è spesso poco ri-conosciuta. \n  \nUna volta a settimana ci incontriamo per due ore presso il mio studio per esplorare la storia della Fotografia da una prospettiva femminista e dare vita ad un processo creativo a partire dalle riflessioni e le sensazioni che emergono dal gruppo. \n  \nStruttura degli incontri \n  \nModalità in presenza: un incontro a settimana da ottobre a dicembre il giorno martedì dalle 19.00 alle 21.00. \nE’ possibile iscriversi al laboratorio mensilmente (4 incontri) o per tre mesi (12 incontri). \n  \nA chi si rivolge \n  \nAperto ad ogni persona interessata dai 18 anni in su. \nIl gruppo sarà composto da massimo 5 persone. \n  \nCosa aspettarsi da questi incontri \n  \nLa fotografia si propone come compagna e guida\, come spunto di riflessione ed esplorazione\, come punto di partenza per invitarvi ad entrare in dialogo con voi stessə e con il resto del gruppo per poi attingere ai materiali artistici ed esprimervi creativamente\, mettendo da parte il giudizio. \nRicordo che non è necessario conoscere nessuna tecnica artistica per partecipare a questo laboratorio\, vengono richieste solo curiosità\, apertura alla scoperta e cuore.
URL:https://gretaluzarteterapia.com/appuntamenti/esplorazioni-fotografike-ciclo-autunnale/
CATEGORIES:Esplorazioni Fotografike
ATTACH;FMTTYPE=image/jpeg:https://gretaluzarteterapia.com/wp-content/uploads/2023/09/FOTO-ESPLORAZIONI.jpg
END:VEVENT
END:VCALENDAR